BEGIN:VCALENDAR
VERSION:2.0
PRODID:-//Palmer Square - ECPv6.15.17.1//NONSGML v1.0//EN
CALSCALE:GREGORIAN
METHOD:PUBLISH
X-WR-CALNAME:Palmer Square
X-ORIGINAL-URL:https://palmersquare.com
X-WR-CALDESC:Events for Palmer Square
REFRESH-INTERVAL;VALUE=DURATION:PT1H
X-Robots-Tag:noindex
X-PUBLISHED-TTL:PT1H
BEGIN:VTIMEZONE
TZID:America/New_York
BEGIN:DAYLIGHT
TZOFFSETFROM:-0500
TZOFFSETTO:-0400
TZNAME:EDT
DTSTART:20250309T070000
END:DAYLIGHT
BEGIN:STANDARD
TZOFFSETFROM:-0400
TZOFFSETTO:-0500
TZNAME:EST
DTSTART:20251102T060000
END:STANDARD
BEGIN:DAYLIGHT
TZOFFSETFROM:-0500
TZOFFSETTO:-0400
TZNAME:EDT
DTSTART:20260308T070000
END:DAYLIGHT
BEGIN:STANDARD
TZOFFSETFROM:-0400
TZOFFSETTO:-0500
TZNAME:EST
DTSTART:20261101T060000
END:STANDARD
BEGIN:DAYLIGHT
TZOFFSETFROM:-0500
TZOFFSETTO:-0400
TZNAME:EDT
DTSTART:20270314T070000
END:DAYLIGHT
BEGIN:STANDARD
TZOFFSETFROM:-0400
TZOFFSETTO:-0500
TZNAME:EST
DTSTART:20271107T060000
END:STANDARD
END:VTIMEZONE
BEGIN:VEVENT
DTSTART;TZID=America/New_York:20260407T000000
DTEND;TZID=America/New_York:20260430T235959
DTSTAMP:20260422T061254
CREATED:20260409T185258Z
LAST-MODIFIED:20260409T185433Z
UID:10002794-1775520000-1777593599@palmersquare.com
SUMMARY:Arhaus: Spring Sale
DESCRIPTION:The sale of sales is happening now! EVERYTHING is up to 50% off at Arhaus! Visit the showroom today— you don’t want to miss these savings! \n\n\n\n\n\n\n\nDisclaimer:  *Offer is valid for a limited time only. Savings are taken before applicable taxes or delivery charges are applied. Valid on merchandise purchases only. Not valid on prior purchases\, discontinued or floor sample items\, Worry-Free Protection Plan\, delivery fees\, taxes\, or at Arhaus The Loft. Cannot be combined with any other offer or promotion. Some limitations may apply. See a Design Consultant for details.
URL:https://palmersquare.com/event/arhaus-spring-sale/
LOCATION:Arhaus Studio\, 17 Palmer Square East\, Princeton\, NJ\, 08542
ATTACH;FMTTYPE=image/jpeg:https://palmersquare.com/wp-content/uploads/2026/04/arhaus-april-1.webp
END:VEVENT
BEGIN:VEVENT
DTSTART;TZID=America/New_York:20260423T000000
DTEND;TZID=America/New_York:20260426T235959
DTSTAMP:20260422T061254
CREATED:20260420T140000Z
LAST-MODIFIED:20260327T142613Z
UID:10002777-1776902400-1777247999@palmersquare.com
SUMMARY:Lilly Pulitzer: Mums is the Word GWP
DESCRIPTION:From 4/23-4/26\, spend $250 in-store at Lilly Pulitzer and receive an adorable Bow Travel Pouch. Spend $500 for a Terry Robe for Mom!
URL:https://palmersquare.com/event/lilly-pulitzer-mums-is-the-word-gwp/
LOCATION:Lilly Pulitzer\, 45 Palmer Square West\, Princeton\, NJ\, 08542
ATTACH;FMTTYPE=image/jpeg:https://palmersquare.com/wp-content/uploads/2026/01/lilly-february.webp
END:VEVENT
BEGIN:VEVENT
DTSTART;TZID=America/New_York:20260423T173000
DTEND;TZID=America/New_York:20260423T200000
DTSTAMP:20260422T061254
CREATED:20260212T214458Z
LAST-MODIFIED:20260220T162532Z
UID:10002742-1776965400-1776974400@palmersquare.com
SUMMARY:SkinSpirit: Princeton Grand Opening Party
DESCRIPTION:Join SkinSpirit for a fabulous evening celebrating the grand opening of SkinSpirit Princeton\, NJ – it’s going to be a night to remember! \n\n\n\nEnjoy sips and bites in a new luxurious clinic\, watch live demos of the most popular treatments\, and enjoy a personalized skincare consultation with a team of expert practitioners. \n\n\n\nAs a special thank you for booking this event\, we’ll treat you to 20% off any treatment new-to-you booked at the event and a goodie bag loaded with medical-grade skincare products* ($200 value)! Plus\, enter live raffles for chances to win one-of-a-kind skincare baskets and treatments! \n\n\n\nRSVP to secure your spot and find out what makes SkinSpirit the leading destination for aesthetic treatments and skin care!
URL:https://palmersquare.com/event/skinspirit-princeton-grand-opening-party/
LOCATION:SkinSpirit\, 53 Hulfish Street\, Princeton\, New Jersey\, 08542
ATTACH;FMTTYPE=image/jpeg:https://palmersquare.com/wp-content/uploads/2026/02/skinspirit-grand-opening.webp
END:VEVENT
BEGIN:VEVENT
DTSTART;TZID=America/New_York:20260424T180000
DTEND;TZID=America/New_York:20260424T210000
DTSTAMP:20260422T061254
CREATED:20260420T143444Z
LAST-MODIFIED:20260420T143446Z
UID:10002798-1777053600-1777064400@palmersquare.com
SUMMARY:YDTR: Live Music on the Patio
DESCRIPTION:Find your seat under the twinkling lights of the Yankee Doodle Tap Room patio and enjoy the new seasonal spring/summer menu paired with live music for an evening of true al fresco ambiance. \n\n\n\n*If the skies decide to sprinkle\, the beats will keep rolling inside the cozy confines of the Tap Room!
URL:https://palmersquare.com/event/ydtr-live-music-on-the-patio/2026-04-24/
LOCATION:Yankee Doodle Tap Room\, 10 Palmer Square E\, Princeton\, NJ\, 08542
ATTACH;FMTTYPE=image/jpeg:https://palmersquare.com/wp-content/uploads/2026/04/live-music-on-patio-1.webp
END:VEVENT
BEGIN:VEVENT
DTSTART;TZID=America/New_York:20260425T100000
DTEND;TZID=America/New_York:20260425T130000
DTSTAMP:20260422T061254
CREATED:20260414T152109Z
LAST-MODIFIED:20260414T152113Z
UID:10002795-1777111200-1777122000@palmersquare.com
SUMMARY:Framebridge: Professional Portraits
DESCRIPTION:Visit Framebridge in-store on Saturday\, April 25th for a professional portrait\, perfect for framing in a tabletop or custom frame as a Mother’s Day gift! Everyone’s welcome to strike a pose. Receive a free portrait with any frame purchase.   \n\n\n\nPortrait sessions will take about 10-15 minutes. (Be sure to bring anything you’ve been meaning to frame!) If you’d like more than one portrait\, please reserve an additional time slot. Artists can sketch children live on the spot or work from multiple photos.
URL:https://palmersquare.com/event/framebridge-professional-portraits/
LOCATION:Framebridge\, 28 Palmer Square East\, Princeton\, New Jersey\, 08542\, United States
ATTACH;FMTTYPE=image/jpeg:https://palmersquare.com/wp-content/uploads/2026/04/framebridge-mothers-day.webp
END:VEVENT
BEGIN:VEVENT
DTSTART;TZID=America/New_York:20260425T120000
DTEND;TZID=America/New_York:20260425T160000
DTSTAMP:20260422T061254
CREATED:20260312T154701Z
LAST-MODIFIED:20260406T204655Z
UID:10002772-1777118400-1777132800@palmersquare.com
SUMMARY:Princeton Porchfest 2026
DESCRIPTION:Join us on the Green on Saturday\, April 25th to celebrate Arts Council of Princeton’s fifth annual Princeton Porchfest! \n\n\n\nStarting at noon\, multiple porches around town will host sets of live music throughout the day. \n\n\n\nPALMER SQUARE SETS:  \n\n\n\n\n12pm-12:45pm: Students from the Honors Music Program of Westminster Conservatory (Classical)\n\n\n\n1pm-1:45pm: The Anderson Council (Alternative)\n\n\n\n2pm-2:45pm: Greater Princeton Youth Orchestra Ensembles (Classical)\n\n\n\n3pm-3:45pm: Back in Time (Pop)\n\n\n\n\nStroll around town to hear live local talent\, grab a bite\, drink\, or coffee from one of Princeton’s amazing small businesses\, and enjoy a day of free community fun.
URL:https://palmersquare.com/event/princeton-porchfest-2026/
LOCATION:On the Green at Palmer Square\, 40 Nassau Street\, Princeton\, NJ\, 08542
ATTACH;FMTTYPE=image/jpeg:https://palmersquare.com/wp-content/uploads/2026/03/palmersquare_porchfest_graphic.webp
END:VEVENT
BEGIN:VEVENT
DTSTART;TZID=America/New_York:20260427T160000
DTEND;TZID=America/New_York:20260427T180000
DTSTAMP:20260422T061254
CREATED:20260330T155925Z
LAST-MODIFIED:20260330T155929Z
UID:10002779-1777305600-1777312800@palmersquare.com
SUMMARY:Teresa Caffe: Five at 4pm
DESCRIPTION:Join Teresa Caffe for 5 exceptional wines from Alto Adige and Veneto. Megan Grant of Gallo Wines will guide everyone through the flavors and stories behind each pour. As always\, assaggini (small bites) will be served.
URL:https://palmersquare.com/event/teresa-caffe-five-at-4pm-4/
LOCATION:Teresa Caffe\, 25 Palmer Square East\, Princeton\, NJ\, 08542\, United States
ATTACH;FMTTYPE=image/jpeg:https://palmersquare.com/wp-content/uploads/2024/04/Teresa072821-13-min.jpg
END:VEVENT
BEGIN:VEVENT
DTSTART;TZID=America/New_York:20260429T000000
DTEND;TZID=America/New_York:20260503T235959
DTSTAMP:20260422T061254
CREATED:20260421T180201Z
LAST-MODIFIED:20260421T180204Z
UID:10002808-1777420800-1777852799@palmersquare.com
SUMMARY:Morgenthal Frederics: Mykita Eyewear Event
DESCRIPTION:John Morgenthal Frederics to explore a curated MYKITA collection\, featuring lightweight steel frames and 3D-printed MYLON designs. The selection highlights the range and versatility of MYKITA\, from everyday optical styles to statement sunglasses.
URL:https://palmersquare.com/event/morgenthal-frederics-mykita-eyewear-event/
LOCATION:Morgenthal Frederics\, 57 Palmer Square West\, Princeton\, NJ\, 08542
ATTACH;FMTTYPE=image/jpeg:https://palmersquare.com/wp-content/uploads/2026/04/morgenthal-frederics-mykita-event.webp
END:VEVENT
BEGIN:VEVENT
DTSTART;TZID=America/New_York:20260501T180000
DTEND;TZID=America/New_York:20260501T210000
DTSTAMP:20260422T061254
CREATED:20260420T143444Z
LAST-MODIFIED:20260420T143446Z
UID:10002799-1777658400-1777669200@palmersquare.com
SUMMARY:YDTR: Live Music on the Patio
DESCRIPTION:Find your seat under the twinkling lights of the Yankee Doodle Tap Room patio and enjoy the new seasonal spring/summer menu paired with live music for an evening of true al fresco ambiance. \n\n\n\n*If the skies decide to sprinkle\, the beats will keep rolling inside the cozy confines of the Tap Room!
URL:https://palmersquare.com/event/ydtr-live-music-on-the-patio/2026-05-01/
LOCATION:Yankee Doodle Tap Room\, 10 Palmer Square E\, Princeton\, NJ\, 08542
ATTACH;FMTTYPE=image/jpeg:https://palmersquare.com/wp-content/uploads/2026/04/live-music-on-patio-1.webp
END:VEVENT
BEGIN:VEVENT
DTSTART;TZID=America/New_York:20260502T100000
DTEND;TZID=America/New_York:20260502T103000
DTSTAMP:20260422T061254
CREATED:20260209T153636Z
LAST-MODIFIED:20260209T153640Z
UID:10002728-1777716000-1777717800@palmersquare.com
SUMMARY:Storytime on the Green
DESCRIPTION:Bring the family to sing\, dance\, and explore the world of books with the amazing Jeff Trainor. Keep an eye out for special guest readers too! This delightful half-hour begins at 10am on the Green\, perfect for little ones from infants to 8 years old. Oh\, the magical adventures we’ll go on! \n\n\n\nSee you there for the tales and tunes! 
URL:https://palmersquare.com/event/storytime-on-the-green/2026-05-02/
LOCATION:On the Green at Palmer Square\, 40 Nassau Street\, Princeton\, NJ\, 08542
ATTACH;FMTTYPE=image/jpeg:https://palmersquare.com/wp-content/uploads/2026/02/storytime.webp
END:VEVENT
BEGIN:VEVENT
DTSTART;TZID=America/New_York:20260505T180000
DTEND;TZID=America/New_York:20260505T200000
DTSTAMP:20260422T061254
CREATED:20260420T132820Z
LAST-MODIFIED:20260420T132823Z
UID:10002796-1778004000-1778011200@palmersquare.com
SUMMARY:Mediterra: Tapas y Vino
DESCRIPTION:Join Mediterra for this Cinco de Mayo themed Tapas y Vino! Details to come.
URL:https://palmersquare.com/event/mediterra-tapas-y-vino-2/
LOCATION:Mediterra\, 29 Hulfish Street\, Princeton\, New Jersey\, 08542\, United States
ATTACH;FMTTYPE=image/jpeg:https://palmersquare.com/wp-content/uploads/2025/10/mediterra-halloween.webp
END:VEVENT
BEGIN:VEVENT
DTSTART;TZID=America/New_York:20260508T180000
DTEND;TZID=America/New_York:20260508T210000
DTSTAMP:20260422T061254
CREATED:20260420T143444Z
LAST-MODIFIED:20260420T143446Z
UID:10002800-1778263200-1778274000@palmersquare.com
SUMMARY:YDTR: Live Music on the Patio
DESCRIPTION:Find your seat under the twinkling lights of the Yankee Doodle Tap Room patio and enjoy the new seasonal spring/summer menu paired with live music for an evening of true al fresco ambiance. \n\n\n\n*If the skies decide to sprinkle\, the beats will keep rolling inside the cozy confines of the Tap Room!
URL:https://palmersquare.com/event/ydtr-live-music-on-the-patio/2026-05-08/
LOCATION:Yankee Doodle Tap Room\, 10 Palmer Square E\, Princeton\, NJ\, 08542
ATTACH;FMTTYPE=image/jpeg:https://palmersquare.com/wp-content/uploads/2026/04/live-music-on-patio-1.webp
END:VEVENT
BEGIN:VEVENT
DTSTART;TZID=America/New_York:20260509T100000
DTEND;TZID=America/New_York:20260509T103000
DTSTAMP:20260422T061254
CREATED:20260209T153636Z
LAST-MODIFIED:20260209T153640Z
UID:10002729-1778320800-1778322600@palmersquare.com
SUMMARY:Storytime on the Green
DESCRIPTION:Bring the family to sing\, dance\, and explore the world of books with the amazing Jeff Trainor. Keep an eye out for special guest readers too! This delightful half-hour begins at 10am on the Green\, perfect for little ones from infants to 8 years old. Oh\, the magical adventures we’ll go on! \n\n\n\nSee you there for the tales and tunes! 
URL:https://palmersquare.com/event/storytime-on-the-green/2026-05-09/
LOCATION:On the Green at Palmer Square\, 40 Nassau Street\, Princeton\, NJ\, 08542
ATTACH;FMTTYPE=image/jpeg:https://palmersquare.com/wp-content/uploads/2026/02/storytime.webp
END:VEVENT
BEGIN:VEVENT
DTSTART;TZID=America/New_York:20260510T103000
DTEND;TZID=America/New_York:20260510T143000
DTSTAMP:20260422T061254
CREATED:20260420T144114Z
LAST-MODIFIED:20260420T145213Z
UID:10002807-1778409000-1778423400@palmersquare.com
SUMMARY:Winberie's Restaurant & Bar: Mother's Day Brunch
DESCRIPTION:Join Winberie’s Restaurant & Bar for a special Mother’s Day Brunch menu on Sunday\, May 10th from 10:30am-2:30pm. Book a reservation today!
URL:https://palmersquare.com/event/winberies-restaurant-bar-mothers-day-brunch/
LOCATION:Winberie’s Restaurant & Bar\, 1 Palmer Square\, Princeton\, NJ\, 08542\, United States
ATTACH;FMTTYPE=image/jpeg:https://palmersquare.com/wp-content/uploads/2026/04/img_0442-scaled.webp
END:VEVENT
BEGIN:VEVENT
DTSTART;TZID=America/New_York:20260515T180000
DTEND;TZID=America/New_York:20260515T210000
DTSTAMP:20260422T061254
CREATED:20260420T143444Z
LAST-MODIFIED:20260420T143446Z
UID:10002801-1778868000-1778878800@palmersquare.com
SUMMARY:YDTR: Live Music on the Patio
DESCRIPTION:Find your seat under the twinkling lights of the Yankee Doodle Tap Room patio and enjoy the new seasonal spring/summer menu paired with live music for an evening of true al fresco ambiance. \n\n\n\n*If the skies decide to sprinkle\, the beats will keep rolling inside the cozy confines of the Tap Room!
URL:https://palmersquare.com/event/ydtr-live-music-on-the-patio/2026-05-15/
LOCATION:Yankee Doodle Tap Room\, 10 Palmer Square E\, Princeton\, NJ\, 08542
ATTACH;FMTTYPE=image/jpeg:https://palmersquare.com/wp-content/uploads/2026/04/live-music-on-patio-1.webp
END:VEVENT
BEGIN:VEVENT
DTSTART;TZID=America/New_York:20260516T100000
DTEND;TZID=America/New_York:20260516T103000
DTSTAMP:20260422T061254
CREATED:20260209T153636Z
LAST-MODIFIED:20260209T153640Z
UID:10002730-1778925600-1778927400@palmersquare.com
SUMMARY:Storytime on the Green
DESCRIPTION:Bring the family to sing\, dance\, and explore the world of books with the amazing Jeff Trainor. Keep an eye out for special guest readers too! This delightful half-hour begins at 10am on the Green\, perfect for little ones from infants to 8 years old. Oh\, the magical adventures we’ll go on! \n\n\n\nSee you there for the tales and tunes! 
URL:https://palmersquare.com/event/storytime-on-the-green/2026-05-16/
LOCATION:On the Green at Palmer Square\, 40 Nassau Street\, Princeton\, NJ\, 08542
ATTACH;FMTTYPE=image/jpeg:https://palmersquare.com/wp-content/uploads/2026/02/storytime.webp
END:VEVENT
BEGIN:VEVENT
DTSTART;TZID=America/New_York:20260520T180000
DTEND;TZID=America/New_York:20260520T200000
DTSTAMP:20260422T061254
CREATED:20260420T132918Z
LAST-MODIFIED:20260420T132922Z
UID:10002797-1779300000-1779307200@palmersquare.com
SUMMARY:Mediterra: Wherever the Olive Grows
DESCRIPTION:Join Mediterra for their next installment of Wherever The Olive Grows! Details to come.
URL:https://palmersquare.com/event/mediterra-wherever-the-olive-grows/
LOCATION:Mediterra\, 29 Hulfish Street\, Princeton\, New Jersey\, 08542\, United States
ATTACH;FMTTYPE=image/jpeg:https://palmersquare.com/wp-content/uploads/2024/04/Mediterra2020-39.jpg
END:VEVENT
BEGIN:VEVENT
DTSTART;TZID=America/New_York:20260522T180000
DTEND;TZID=America/New_York:20260522T210000
DTSTAMP:20260422T061254
CREATED:20260420T143444Z
LAST-MODIFIED:20260420T143446Z
UID:10002802-1779472800-1779483600@palmersquare.com
SUMMARY:YDTR: Live Music on the Patio
DESCRIPTION:Find your seat under the twinkling lights of the Yankee Doodle Tap Room patio and enjoy the new seasonal spring/summer menu paired with live music for an evening of true al fresco ambiance. \n\n\n\n*If the skies decide to sprinkle\, the beats will keep rolling inside the cozy confines of the Tap Room!
URL:https://palmersquare.com/event/ydtr-live-music-on-the-patio/2026-05-22/
LOCATION:Yankee Doodle Tap Room\, 10 Palmer Square E\, Princeton\, NJ\, 08542
ATTACH;FMTTYPE=image/jpeg:https://palmersquare.com/wp-content/uploads/2026/04/live-music-on-patio-1.webp
END:VEVENT
BEGIN:VEVENT
DTSTART;TZID=America/New_York:20260523T100000
DTEND;TZID=America/New_York:20260523T103000
DTSTAMP:20260422T061254
CREATED:20260209T153636Z
LAST-MODIFIED:20260209T153640Z
UID:10002731-1779530400-1779532200@palmersquare.com
SUMMARY:Storytime on the Green
DESCRIPTION:Bring the family to sing\, dance\, and explore the world of books with the amazing Jeff Trainor. Keep an eye out for special guest readers too! This delightful half-hour begins at 10am on the Green\, perfect for little ones from infants to 8 years old. Oh\, the magical adventures we’ll go on! \n\n\n\nSee you there for the tales and tunes! 
URL:https://palmersquare.com/event/storytime-on-the-green/2026-05-23/
LOCATION:On the Green at Palmer Square\, 40 Nassau Street\, Princeton\, NJ\, 08542
ATTACH;FMTTYPE=image/jpeg:https://palmersquare.com/wp-content/uploads/2026/02/storytime.webp
END:VEVENT
BEGIN:VEVENT
DTSTART;TZID=America/New_York:20260529T180000
DTEND;TZID=America/New_York:20260529T210000
DTSTAMP:20260422T061254
CREATED:20260420T143444Z
LAST-MODIFIED:20260420T143446Z
UID:10002803-1780077600-1780088400@palmersquare.com
SUMMARY:YDTR: Live Music on the Patio
DESCRIPTION:Find your seat under the twinkling lights of the Yankee Doodle Tap Room patio and enjoy the new seasonal spring/summer menu paired with live music for an evening of true al fresco ambiance. \n\n\n\n*If the skies decide to sprinkle\, the beats will keep rolling inside the cozy confines of the Tap Room!
URL:https://palmersquare.com/event/ydtr-live-music-on-the-patio/2026-05-29/
LOCATION:Yankee Doodle Tap Room\, 10 Palmer Square E\, Princeton\, NJ\, 08542
ATTACH;FMTTYPE=image/jpeg:https://palmersquare.com/wp-content/uploads/2026/04/live-music-on-patio-1.webp
END:VEVENT
BEGIN:VEVENT
DTSTART;TZID=America/New_York:20260530T100000
DTEND;TZID=America/New_York:20260530T103000
DTSTAMP:20260422T061254
CREATED:20260209T153636Z
LAST-MODIFIED:20260209T153640Z
UID:10002732-1780135200-1780137000@palmersquare.com
SUMMARY:Storytime on the Green
DESCRIPTION:Bring the family to sing\, dance\, and explore the world of books with the amazing Jeff Trainor. Keep an eye out for special guest readers too! This delightful half-hour begins at 10am on the Green\, perfect for little ones from infants to 8 years old. Oh\, the magical adventures we’ll go on! \n\n\n\nSee you there for the tales and tunes! 
URL:https://palmersquare.com/event/storytime-on-the-green/2026-05-30/
LOCATION:On the Green at Palmer Square\, 40 Nassau Street\, Princeton\, NJ\, 08542
ATTACH;FMTTYPE=image/jpeg:https://palmersquare.com/wp-content/uploads/2026/02/storytime.webp
END:VEVENT
BEGIN:VEVENT
DTSTART;TZID=America/New_York:20260604T180000
DTEND;TZID=America/New_York:20260604T200000
DTSTAMP:20260422T061254
CREATED:20260209T154245Z
LAST-MODIFIED:20260209T154249Z
UID:10002733-1780596000-1780603200@palmersquare.com
SUMMARY:Square After Sunset
DESCRIPTION:When the sun goes down\, Palmer Square lights up! \n\n\n\nJoin us for Square After Sunset\, our Thursday night series where shopping\, strolling\, and soaking up the gorgeous weather all come together. Whether you’re out with friends or planning a date night\, it’s the perfect way to kick off your weekend early! \n\n\n\n Live music on the Green! \n\n\n\n A new artistic feature each week \n\n\n\n Outdoor lawn games for all ages \n\n\n\n The perfect evening glow for golden hour selfies \n\n\n\nMake Thursdays your new favorite night of the week. See you after sunset! \n\n\n\nMore Details to Come!
URL:https://palmersquare.com/event/square-after-sunset/2026-06-04/
LOCATION:On the Green at Palmer Square\, 40 Nassau Street\, Princeton\, NJ\, 08542
ATTACH;FMTTYPE=image/jpeg:https://palmersquare.com/wp-content/uploads/2025/05/1000x667_web-cover-image_square-after-sunset.webp
END:VEVENT
BEGIN:VEVENT
DTSTART;TZID=America/New_York:20260605T180000
DTEND;TZID=America/New_York:20260605T210000
DTSTAMP:20260422T061254
CREATED:20260420T143444Z
LAST-MODIFIED:20260420T143446Z
UID:10002804-1780682400-1780693200@palmersquare.com
SUMMARY:YDTR: Live Music on the Patio
DESCRIPTION:Find your seat under the twinkling lights of the Yankee Doodle Tap Room patio and enjoy the new seasonal spring/summer menu paired with live music for an evening of true al fresco ambiance. \n\n\n\n*If the skies decide to sprinkle\, the beats will keep rolling inside the cozy confines of the Tap Room!
URL:https://palmersquare.com/event/ydtr-live-music-on-the-patio/2026-06-05/
LOCATION:Yankee Doodle Tap Room\, 10 Palmer Square E\, Princeton\, NJ\, 08542
ATTACH;FMTTYPE=image/jpeg:https://palmersquare.com/wp-content/uploads/2026/04/live-music-on-patio-1.webp
END:VEVENT
BEGIN:VEVENT
DTSTART;TZID=America/New_York:20260606T130000
DTEND;TZID=America/New_York:20260606T150000
DTSTAMP:20260422T061254
CREATED:20260224T151816Z
LAST-MODIFIED:20260417T162700Z
UID:10002752-1780750800-1780758000@palmersquare.com
SUMMARY:Summer Music Series
DESCRIPTION:Soak up the sounds of summer on the Green every Saturday from 1pm-3pm! \n\n\n\nFrom laid-back acoustic covers and timeless classic rock\, to smooth\, jazzy favorites\, each weekend brings a soundtrack everyone can enjoy. Grab a seat at one of our picnic tables or bring your own chairs and blankets to settle in for a sunny afternoon of live music. \n\n\n\nMake a day of it on the Square: shop\, dine\, and gather with friends and family while an eclectic mix of local talent fills the air and brings Princeton to life. \n\n\n\nWe’ll see you on the Green! 🎶 \n\n\n\n*FULL ARTIST LINEUP COMING SOON!*
URL:https://palmersquare.com/event/summer-music-series/2026-06-06/
LOCATION:On the Green at Palmer Square\, 40 Nassau Street\, Princeton\, NJ\, 08542
ATTACH;FMTTYPE=image/jpeg:https://palmersquare.com/wp-content/uploads/2026/02/summer-music-series-2.webp
END:VEVENT
BEGIN:VEVENT
DTSTART;TZID=America/New_York:20260611T180000
DTEND;TZID=America/New_York:20260611T200000
DTSTAMP:20260422T061254
CREATED:20260209T154245Z
LAST-MODIFIED:20260209T154249Z
UID:10002734-1781200800-1781208000@palmersquare.com
SUMMARY:Square After Sunset
DESCRIPTION:When the sun goes down\, Palmer Square lights up! \n\n\n\nJoin us for Square After Sunset\, our Thursday night series where shopping\, strolling\, and soaking up the gorgeous weather all come together. Whether you’re out with friends or planning a date night\, it’s the perfect way to kick off your weekend early! \n\n\n\n Live music on the Green! \n\n\n\n A new artistic feature each week \n\n\n\n Outdoor lawn games for all ages \n\n\n\n The perfect evening glow for golden hour selfies \n\n\n\nMake Thursdays your new favorite night of the week. See you after sunset! \n\n\n\nMore Details to Come!
URL:https://palmersquare.com/event/square-after-sunset/2026-06-11/
LOCATION:On the Green at Palmer Square\, 40 Nassau Street\, Princeton\, NJ\, 08542
ATTACH;FMTTYPE=image/jpeg:https://palmersquare.com/wp-content/uploads/2025/05/1000x667_web-cover-image_square-after-sunset.webp
END:VEVENT
BEGIN:VEVENT
DTSTART;TZID=America/New_York:20260612T180000
DTEND;TZID=America/New_York:20260612T210000
DTSTAMP:20260422T061254
CREATED:20260420T143444Z
LAST-MODIFIED:20260420T143446Z
UID:10002805-1781287200-1781298000@palmersquare.com
SUMMARY:YDTR: Live Music on the Patio
DESCRIPTION:Find your seat under the twinkling lights of the Yankee Doodle Tap Room patio and enjoy the new seasonal spring/summer menu paired with live music for an evening of true al fresco ambiance. \n\n\n\n*If the skies decide to sprinkle\, the beats will keep rolling inside the cozy confines of the Tap Room!
URL:https://palmersquare.com/event/ydtr-live-music-on-the-patio/2026-06-12/
LOCATION:Yankee Doodle Tap Room\, 10 Palmer Square E\, Princeton\, NJ\, 08542
ATTACH;FMTTYPE=image/jpeg:https://palmersquare.com/wp-content/uploads/2026/04/live-music-on-patio-1.webp
END:VEVENT
BEGIN:VEVENT
DTSTART;TZID=America/New_York:20260613T130000
DTEND;TZID=America/New_York:20260613T150000
DTSTAMP:20260422T061254
CREATED:20260224T151816Z
LAST-MODIFIED:20260417T162700Z
UID:10002753-1781355600-1781362800@palmersquare.com
SUMMARY:Summer Music Series
DESCRIPTION:Soak up the sounds of summer on the Green every Saturday from 1pm-3pm! \n\n\n\nFrom laid-back acoustic covers and timeless classic rock\, to smooth\, jazzy favorites\, each weekend brings a soundtrack everyone can enjoy. Grab a seat at one of our picnic tables or bring your own chairs and blankets to settle in for a sunny afternoon of live music. \n\n\n\nMake a day of it on the Square: shop\, dine\, and gather with friends and family while an eclectic mix of local talent fills the air and brings Princeton to life. \n\n\n\nWe’ll see you on the Green! 🎶 \n\n\n\n*FULL ARTIST LINEUP COMING SOON!*
URL:https://palmersquare.com/event/summer-music-series/2026-06-13/
LOCATION:On the Green at Palmer Square\, 40 Nassau Street\, Princeton\, NJ\, 08542
ATTACH;FMTTYPE=image/jpeg:https://palmersquare.com/wp-content/uploads/2026/02/summer-music-series-2.webp
END:VEVENT
BEGIN:VEVENT
DTSTART;TZID=America/New_York:20260618T180000
DTEND;TZID=America/New_York:20260618T200000
DTSTAMP:20260422T061254
CREATED:20260209T154245Z
LAST-MODIFIED:20260209T154249Z
UID:10002735-1781805600-1781812800@palmersquare.com
SUMMARY:Square After Sunset
DESCRIPTION:When the sun goes down\, Palmer Square lights up! \n\n\n\nJoin us for Square After Sunset\, our Thursday night series where shopping\, strolling\, and soaking up the gorgeous weather all come together. Whether you’re out with friends or planning a date night\, it’s the perfect way to kick off your weekend early! \n\n\n\n Live music on the Green! \n\n\n\n A new artistic feature each week \n\n\n\n Outdoor lawn games for all ages \n\n\n\n The perfect evening glow for golden hour selfies \n\n\n\nMake Thursdays your new favorite night of the week. See you after sunset! \n\n\n\nMore Details to Come!
URL:https://palmersquare.com/event/square-after-sunset/2026-06-18/
LOCATION:On the Green at Palmer Square\, 40 Nassau Street\, Princeton\, NJ\, 08542
ATTACH;FMTTYPE=image/jpeg:https://palmersquare.com/wp-content/uploads/2025/05/1000x667_web-cover-image_square-after-sunset.webp
END:VEVENT
BEGIN:VEVENT
DTSTART;TZID=America/New_York:20260619T180000
DTEND;TZID=America/New_York:20260619T210000
DTSTAMP:20260422T061254
CREATED:20260420T143444Z
LAST-MODIFIED:20260420T143446Z
UID:10002806-1781892000-1781902800@palmersquare.com
SUMMARY:YDTR: Live Music on the Patio
DESCRIPTION:Find your seat under the twinkling lights of the Yankee Doodle Tap Room patio and enjoy the new seasonal spring/summer menu paired with live music for an evening of true al fresco ambiance. \n\n\n\n*If the skies decide to sprinkle\, the beats will keep rolling inside the cozy confines of the Tap Room!
URL:https://palmersquare.com/event/ydtr-live-music-on-the-patio/2026-06-19/
LOCATION:Yankee Doodle Tap Room\, 10 Palmer Square E\, Princeton\, NJ\, 08542
ATTACH;FMTTYPE=image/jpeg:https://palmersquare.com/wp-content/uploads/2026/04/live-music-on-patio-1.webp
END:VEVENT
BEGIN:VEVENT
DTSTART;TZID=America/New_York:20260620T130000
DTEND;TZID=America/New_York:20260620T150000
DTSTAMP:20260422T061254
CREATED:20260224T151816Z
LAST-MODIFIED:20260417T162700Z
UID:10002754-1781960400-1781967600@palmersquare.com
SUMMARY:Summer Music Series
DESCRIPTION:Soak up the sounds of summer on the Green every Saturday from 1pm-3pm! \n\n\n\nFrom laid-back acoustic covers and timeless classic rock\, to smooth\, jazzy favorites\, each weekend brings a soundtrack everyone can enjoy. Grab a seat at one of our picnic tables or bring your own chairs and blankets to settle in for a sunny afternoon of live music. \n\n\n\nMake a day of it on the Square: shop\, dine\, and gather with friends and family while an eclectic mix of local talent fills the air and brings Princeton to life. \n\n\n\nWe’ll see you on the Green! 🎶 \n\n\n\n*FULL ARTIST LINEUP COMING SOON!*
URL:https://palmersquare.com/event/summer-music-series/2026-06-20/
LOCATION:On the Green at Palmer Square\, 40 Nassau Street\, Princeton\, NJ\, 08542
ATTACH;FMTTYPE=image/jpeg:https://palmersquare.com/wp-content/uploads/2026/02/summer-music-series-2.webp
END:VEVENT
END:VCALENDAR